BEGIN:VCALENDAR
VERSION:2.0
PRODID:-//eventon.com NONSGML v1.0//EN
BEGIN:VEVENT
UID:69e8fcc19e08d
DTSTAMP:20260422T185217
DTSTART:20260422
DTEND:20260517
TZID:Europe/Zurich
LOCATION:le Music Art Palace Grand rue 14 / 2056 Dombresson
SUMMARY:Béatrice Zumwald
DESCRIPTION: Exposition du 23 avril au 17 mai 2026Horaire d&rsquo;ouverture: vendredi\,  samedi et dimanche de 15h00 à 18h00 Jeudi 23 avril 2026:18h: Vernissage en présence de l&rsquo;artiste peintre.18h30 : Musique : Anne Rémond (soprano lyrique) / Evan Métral (pianiste). Petite fille déjà\,  j’étais passionnée par la peinture\,  le dessin\,  le modelage.[..]\nhttps://musicartpalace.ch/events/beatrice-zumwald/
URL:https://musicartpalace.ch/events/beatrice-zumwald/
END:VEVENT
END:VCALENDAR