BEGIN:VCALENDAR
VERSION:2.0
PRODID:-//eventon.com NONSGML v1.0//EN
BEGIN:VEVENT
UID:69e5f7747a01d
DTSTAMP:20260420T115252
DTSTART:20260418T173000Z
DTEND:20260418T215000Z
TZID:Europe/Zurich
LOCATION:le Music Art Palace Grand rue 14 / 2056 Dombresson
SUMMARY:Walldown
DESCRIPTION: En version acoustique / Entrée 20.-\,  Membre 15.- Walldown c&rsquo;est la fraîcheur décomplexée d&rsquo;un Rock&rsquo;n&rsquo;Roll festif et redoutable emporté par 5 jeunes neuchâtelois passionnés. Des riffs Old School énergiques teintés d&rsquo;une voix féminine espiègle et malicieuse\,  telle est la recette explosive de cette formation neuchâteloise. En décembre 2019\,  Walldown sort[..]\nhttps://musicartpalace.ch/events/walldown/
URL:https://musicartpalace.ch/events/walldown/
END:VEVENT
END:VCALENDAR