BEGIN:VCALENDAR
VERSION:2.0
PRODID:-//eventon.com NONSGML v1.0//EN
BEGIN:VEVENT
UID:69eb89b25818e
DTSTAMP:20260424T171810
DTSTART:20260425T173000Z
DTEND:20260425T215000Z
TZID:Europe/Zurich
LOCATION:le Music Art Palace Grand rue 14 / 2056 Dombresson
SUMMARY:Gadjo
DESCRIPTION: Portes 19h30 – Entrée 20.-\,  Membre 15.- Né en 2006 à Lausanne\,  le groupe Gadjo est composé de quatre musiciens.nes issus d’univers musicaux différents et réunis par leur passion commune pour la musique acoustique et le jazz manouche. Aux deux guitares répondent un violon et une contrebasse\,  dans un répertoire[..]\nhttps://musicartpalace.ch/events/gadjo/
URL:https://musicartpalace.ch/events/gadjo/
END:VEVENT
END:VCALENDAR